BEGIN:VCALENDAR
VERSION:2.0
PRODID:-//San Luis Obispo Repertory Theatre - ECPv6.15.20//NONSGML v1.0//EN
CALSCALE:GREGORIAN
METHOD:PUBLISH
X-WR-CALNAME:San Luis Obispo Repertory Theatre
X-ORIGINAL-URL:https://www.slorep.org
X-WR-CALDESC:Events for San Luis Obispo Repertory Theatre
REFRESH-INTERVAL;VALUE=DURATION:PT1H
X-Robots-Tag:noindex
X-PUBLISHED-TTL:PT1H
BEGIN:VTIMEZONE
TZID:America/Los_Angeles
BEGIN:DAYLIGHT
TZOFFSETFROM:-0800
TZOFFSETTO:-0700
TZNAME:PDT
DTSTART:20160313T100000
END:DAYLIGHT
BEGIN:STANDARD
TZOFFSETFROM:-0700
TZOFFSETTO:-0800
TZNAME:PST
DTSTART:20161106T090000
END:STANDARD
BEGIN:DAYLIGHT
TZOFFSETFROM:-0800
TZOFFSETTO:-0700
TZNAME:PDT
DTSTART:20170312T100000
END:DAYLIGHT
BEGIN:STANDARD
TZOFFSETFROM:-0700
TZOFFSETTO:-0800
TZNAME:PST
DTSTART:20171105T090000
END:STANDARD
BEGIN:DAYLIGHT
TZOFFSETFROM:-0800
TZOFFSETTO:-0700
TZNAME:PDT
DTSTART:20180311T100000
END:DAYLIGHT
BEGIN:STANDARD
TZOFFSETFROM:-0700
TZOFFSETTO:-0800
TZNAME:PST
DTSTART:20181104T090000
END:STANDARD
BEGIN:DAYLIGHT
TZOFFSETFROM:-0800
TZOFFSETTO:-0700
TZNAME:PDT
DTSTART:20190310T100000
END:DAYLIGHT
BEGIN:STANDARD
TZOFFSETFROM:-0700
TZOFFSETTO:-0800
TZNAME:PST
DTSTART:20191103T090000
END:STANDARD
END:VTIMEZONE
BEGIN:VEVENT
DTSTART;TZID=America/Los_Angeles:20180421T140000
DTEND;TZID=America/Los_Angeles:20180421T160000
DTSTAMP:20260421T064515
CREATED:20170606T175122Z
LAST-MODIFIED:20170606T175122Z
UID:11752-1524319200-1524326400@www.slorep.org
SUMMARY:Life X 3
DESCRIPTION:
URL:https://www.slorep.org/event/life-x-3-2/
LOCATION:San Luis Obispo Repertory Theatre\, 888 Morro St\, San Luis Obispo\, CA\, 93401\, United States
ATTACH;FMTTYPE=image/jpeg:https://www.slorep.org/wp-content/uploads/2017/06/Ubu-Teaser.jpg
GEO:35.2825108;-120.6629984
X-APPLE-STRUCTURED-LOCATION;VALUE=URI;X-ADDRESS=San Luis Obispo Repertory Theatre 888 Morro St San Luis Obispo CA 93401 United States;X-APPLE-RADIUS=500;X-TITLE=888 Morro St:geo:-120.6629984,35.2825108
END:VEVENT
BEGIN:VEVENT
DTSTART;TZID=America/Los_Angeles:20180420T190000
DTEND;TZID=America/Los_Angeles:20180420T210000
DTSTAMP:20260421T064515
CREATED:20170606T175043Z
LAST-MODIFIED:20170606T175043Z
UID:11749-1524250800-1524258000@www.slorep.org
SUMMARY:Life X 3
DESCRIPTION:
URL:https://www.slorep.org/event/life-x-3/2018-04-20/
LOCATION:San Luis Obispo Repertory Theatre\, 888 Morro St\, San Luis Obispo\, CA\, 93401\, United States
ATTACH;FMTTYPE=image/jpeg:https://www.slorep.org/wp-content/uploads/2017/06/Ubu-Teaser.jpg
GEO:35.2825108;-120.6629984
X-APPLE-STRUCTURED-LOCATION;VALUE=URI;X-ADDRESS=San Luis Obispo Repertory Theatre 888 Morro St San Luis Obispo CA 93401 United States;X-APPLE-RADIUS=500;X-TITLE=888 Morro St:geo:-120.6629984,35.2825108
END:VEVENT
BEGIN:VEVENT
DTSTART;TZID=America/Los_Angeles:20180405T190000
DTEND;TZID=America/Los_Angeles:20180405T210000
DTSTAMP:20260421T064515
CREATED:20170606T004938Z
LAST-MODIFIED:20180407T223516Z
UID:11538-1522954800-1522962000@www.slorep.org
SUMMARY:The 39 Steps
DESCRIPTION:
URL:https://www.slorep.org/event/the-39-steps-7/2018-04-05/
LOCATION:San Luis Obispo Repertory Theatre\, 888 Morro St\, San Luis Obispo\, CA\, 93401\, United States
ATTACH;FMTTYPE=image/jpeg:https://www.slorep.org/wp-content/uploads/2017/06/The39Steps-Teaser.jpg
GEO:35.2825108;-120.6629984
X-APPLE-STRUCTURED-LOCATION;VALUE=URI;X-ADDRESS=San Luis Obispo Repertory Theatre 888 Morro St San Luis Obispo CA 93401 United States;X-APPLE-RADIUS=500;X-TITLE=888 Morro St:geo:-120.6629984,35.2825108
END:VEVENT
BEGIN:VEVENT
DTSTART;TZID=America/Los_Angeles:20180404T190000
DTEND;TZID=America/Los_Angeles:20180404T210000
DTSTAMP:20260421T064515
CREATED:20170606T004851Z
LAST-MODIFIED:20180407T223327Z
UID:11535-1522868400-1522875600@www.slorep.org
SUMMARY:The 39 Steps
DESCRIPTION:
URL:https://www.slorep.org/event/the-39-steps-6/2018-04-04/
LOCATION:San Luis Obispo Repertory Theatre\, 888 Morro St\, San Luis Obispo\, CA\, 93401\, United States
ATTACH;FMTTYPE=image/jpeg:https://www.slorep.org/wp-content/uploads/2017/06/The39Steps-Teaser.jpg
GEO:35.2825108;-120.6629984
X-APPLE-STRUCTURED-LOCATION;VALUE=URI;X-ADDRESS=San Luis Obispo Repertory Theatre 888 Morro St San Luis Obispo CA 93401 United States;X-APPLE-RADIUS=500;X-TITLE=888 Morro St:geo:-120.6629984,35.2825108
END:VEVENT
BEGIN:VEVENT
DTSTART;TZID=America/Los_Angeles:20180401T190000
DTEND;TZID=America/Los_Angeles:20180401T210000
DTSTAMP:20260421T064515
CREATED:20170606T004755Z
LAST-MODIFIED:20180407T223207Z
UID:11532-1522609200-1522616400@www.slorep.org
SUMMARY:The 39 Steps
DESCRIPTION:
URL:https://www.slorep.org/event/the-39-steps-5/2018-04-01/
LOCATION:San Luis Obispo Repertory Theatre\, 888 Morro St\, San Luis Obispo\, CA\, 93401\, United States
ATTACH;FMTTYPE=image/jpeg:https://www.slorep.org/wp-content/uploads/2017/06/The39Steps-Teaser.jpg
GEO:35.2825108;-120.6629984
X-APPLE-STRUCTURED-LOCATION;VALUE=URI;X-ADDRESS=San Luis Obispo Repertory Theatre 888 Morro St San Luis Obispo CA 93401 United States;X-APPLE-RADIUS=500;X-TITLE=888 Morro St:geo:-120.6629984,35.2825108
END:VEVENT
BEGIN:VEVENT
DTSTART;TZID=America/Los_Angeles:20180401T140000
DTEND;TZID=America/Los_Angeles:20180401T160000
DTSTAMP:20260421T064515
CREATED:20170606T004700Z
LAST-MODIFIED:20180407T223108Z
UID:11528-1522591200-1522598400@www.slorep.org
SUMMARY:The 39 Steps
DESCRIPTION:
URL:https://www.slorep.org/event/the-39-steps-4/2018-04-01/
LOCATION:San Luis Obispo Repertory Theatre\, 888 Morro St\, San Luis Obispo\, CA\, 93401\, United States
ATTACH;FMTTYPE=image/jpeg:https://www.slorep.org/wp-content/uploads/2017/06/The39Steps-Teaser.jpg
GEO:35.2825108;-120.6629984
X-APPLE-STRUCTURED-LOCATION;VALUE=URI;X-ADDRESS=San Luis Obispo Repertory Theatre 888 Morro St San Luis Obispo CA 93401 United States;X-APPLE-RADIUS=500;X-TITLE=888 Morro St:geo:-120.6629984,35.2825108
END:VEVENT
BEGIN:VEVENT
DTSTART;TZID=America/Los_Angeles:20180331T190000
DTEND;TZID=America/Los_Angeles:20180331T210000
DTSTAMP:20260421T064515
CREATED:20170606T004603Z
LAST-MODIFIED:20180407T222945Z
UID:11524-1522522800-1522530000@www.slorep.org
SUMMARY:The 39 Steps
DESCRIPTION:
URL:https://www.slorep.org/event/the-39-steps-3/2018-03-31/
LOCATION:San Luis Obispo Repertory Theatre\, 888 Morro St\, San Luis Obispo\, CA\, 93401\, United States
ATTACH;FMTTYPE=image/jpeg:https://www.slorep.org/wp-content/uploads/2017/06/The39Steps-Teaser.jpg
GEO:35.2825108;-120.6629984
X-APPLE-STRUCTURED-LOCATION;VALUE=URI;X-ADDRESS=San Luis Obispo Repertory Theatre 888 Morro St San Luis Obispo CA 93401 United States;X-APPLE-RADIUS=500;X-TITLE=888 Morro St:geo:-120.6629984,35.2825108
END:VEVENT
BEGIN:VEVENT
DTSTART;TZID=America/Los_Angeles:20180331T140000
DTEND;TZID=America/Los_Angeles:20180331T160000
DTSTAMP:20260421T064515
CREATED:20170606T004509Z
LAST-MODIFIED:20170606T004509Z
UID:11520-1522504800-1522512000@www.slorep.org
SUMMARY:The 39 Steps
DESCRIPTION:
URL:https://www.slorep.org/event/the-39-steps-2/2018-03-31/
LOCATION:San Luis Obispo Repertory Theatre\, 888 Morro St\, San Luis Obispo\, CA\, 93401\, United States
ATTACH;FMTTYPE=image/jpeg:https://www.slorep.org/wp-content/uploads/2017/06/The39Steps-Teaser.jpg
GEO:35.2825108;-120.6629984
X-APPLE-STRUCTURED-LOCATION;VALUE=URI;X-ADDRESS=San Luis Obispo Repertory Theatre 888 Morro St San Luis Obispo CA 93401 United States;X-APPLE-RADIUS=500;X-TITLE=888 Morro St:geo:-120.6629984,35.2825108
END:VEVENT
BEGIN:VEVENT
DTSTART;TZID=America/Los_Angeles:20180330T190000
DTEND;TZID=America/Los_Angeles:20180330T210000
DTSTAMP:20260421T064515
CREATED:20170606T004410Z
LAST-MODIFIED:20170606T004410Z
UID:11516-1522436400-1522443600@www.slorep.org
SUMMARY:The 39 Steps
DESCRIPTION:
URL:https://www.slorep.org/event/the-39-steps/2018-03-30/
LOCATION:San Luis Obispo Repertory Theatre\, 888 Morro St\, San Luis Obispo\, CA\, 93401\, United States
ATTACH;FMTTYPE=image/jpeg:https://www.slorep.org/wp-content/uploads/2017/06/The39Steps-Teaser.jpg
GEO:35.2825108;-120.6629984
X-APPLE-STRUCTURED-LOCATION;VALUE=URI;X-ADDRESS=San Luis Obispo Repertory Theatre 888 Morro St San Luis Obispo CA 93401 United States;X-APPLE-RADIUS=500;X-TITLE=888 Morro St:geo:-120.6629984,35.2825108
END:VEVENT
BEGIN:VEVENT
DTSTART;TZID=America/Los_Angeles:20180323T190000
DTEND;TZID=America/Los_Angeles:20180323T210000
DTSTAMP:20260421T064515
CREATED:20180223T194735Z
LAST-MODIFIED:20180321T174705Z
UID:12739-1521831600-1521838800@www.slorep.org
SUMMARY:ACT Staged Reading: Peer Gynt
DESCRIPTION:
URL:https://www.slorep.org/event/act-staged-reading-peer-gynt/2018-03-23/
LOCATION:San Luis Obispo Repertory Theatre\, 888 Morro St\, San Luis Obispo\, CA\, 93401\, United States
ATTACH;FMTTYPE=image/jpeg:https://www.slorep.org/wp-content/uploads/2018/02/PeerGynt-Teaser.jpg
GEO:35.2825108;-120.6629984
X-APPLE-STRUCTURED-LOCATION;VALUE=URI;X-ADDRESS=San Luis Obispo Repertory Theatre 888 Morro St San Luis Obispo CA 93401 United States;X-APPLE-RADIUS=500;X-TITLE=888 Morro St:geo:-120.6629984,35.2825108
END:VEVENT
BEGIN:VEVENT
DTSTART;TZID=America/Los_Angeles:20180317T140000
DTEND;TZID=America/Los_Angeles:20180317T160000
DTSTAMP:20260421T064515
CREATED:20170606T174915Z
LAST-MODIFIED:20170606T174915Z
UID:11747-1521295200-1521302400@www.slorep.org
SUMMARY:The Other Place
DESCRIPTION:
URL:https://www.slorep.org/event/the-other-place-2/
LOCATION:San Luis Obispo Repertory Theatre\, 888 Morro St\, San Luis Obispo\, CA\, 93401\, United States
ATTACH;FMTTYPE=image/jpeg:https://www.slorep.org/wp-content/uploads/2017/06/Ubu-Teaser.jpg
GEO:35.2825108;-120.6629984
X-APPLE-STRUCTURED-LOCATION;VALUE=URI;X-ADDRESS=San Luis Obispo Repertory Theatre 888 Morro St San Luis Obispo CA 93401 United States;X-APPLE-RADIUS=500;X-TITLE=888 Morro St:geo:-120.6629984,35.2825108
END:VEVENT
BEGIN:VEVENT
DTSTART;TZID=America/Los_Angeles:20180316T190000
DTEND;TZID=America/Los_Angeles:20180316T200000
DTSTAMP:20260421T064515
CREATED:20170606T174835Z
LAST-MODIFIED:20170606T174835Z
UID:11744-1521226800-1521230400@www.slorep.org
SUMMARY:The Other Place
DESCRIPTION:
URL:https://www.slorep.org/event/the-other-place/2018-03-16/
LOCATION:San Luis Obispo Repertory Theatre\, 888 Morro St\, San Luis Obispo\, CA\, 93401\, United States
ATTACH;FMTTYPE=image/jpeg:https://www.slorep.org/wp-content/uploads/2017/06/Ubu-Teaser.jpg
GEO:35.2825108;-120.6629984
X-APPLE-STRUCTURED-LOCATION;VALUE=URI;X-ADDRESS=San Luis Obispo Repertory Theatre 888 Morro St San Luis Obispo CA 93401 United States;X-APPLE-RADIUS=500;X-TITLE=888 Morro St:geo:-120.6629984,35.2825108
END:VEVENT
BEGIN:VEVENT
DTSTART;TZID=America/Los_Angeles:20180225T190000
DTEND;TZID=America/Los_Angeles:20180225T210000
DTSTAMP:20260421T064515
CREATED:20170606T161411Z
LAST-MODIFIED:20170606T161411Z
UID:11686-1519585200-1519592400@www.slorep.org
SUMMARY:The Producers
DESCRIPTION:
URL:https://www.slorep.org/event/the-producers-5/2018-02-25/
LOCATION:San Luis Obispo Repertory Theatre\, 888 Morro St\, San Luis Obispo\, CA\, 93401\, United States
ATTACH;FMTTYPE=image/jpeg:https://www.slorep.org/wp-content/uploads/2017/06/TheProducers-Teaser.jpg
GEO:35.2825108;-120.6629984
X-APPLE-STRUCTURED-LOCATION;VALUE=URI;X-ADDRESS=San Luis Obispo Repertory Theatre 888 Morro St San Luis Obispo CA 93401 United States;X-APPLE-RADIUS=500;X-TITLE=888 Morro St:geo:-120.6629984,35.2825108
END:VEVENT
BEGIN:VEVENT
DTSTART;TZID=America/Los_Angeles:20180223T173000
DTEND;TZID=America/Los_Angeles:20180223T213000
DTSTAMP:20260421T064515
CREATED:20170606T164700Z
LAST-MODIFIED:20170606T164700Z
UID:11703-1519407000-1519421400@www.slorep.org
SUMMARY:The Producers Gala Martini Night
DESCRIPTION:
URL:https://www.slorep.org/event/the-producers-gala-martini-night/
LOCATION:San Luis Obispo Repertory Theatre\, 888 Morro St\, San Luis Obispo\, CA\, 93401\, United States
ATTACH;FMTTYPE=image/jpeg:https://www.slorep.org/wp-content/uploads/2017/06/TheProducers-Teaser.jpg
GEO:35.2825108;-120.6629984
X-APPLE-STRUCTURED-LOCATION;VALUE=URI;X-ADDRESS=San Luis Obispo Repertory Theatre 888 Morro St San Luis Obispo CA 93401 United States;X-APPLE-RADIUS=500;X-TITLE=888 Morro St:geo:-120.6629984,35.2825108
END:VEVENT
BEGIN:VEVENT
DTSTART;TZID=America/Los_Angeles:20180222T190000
DTEND;TZID=America/Los_Angeles:20180222T210000
DTSTAMP:20260421T064515
CREATED:20170606T161609Z
LAST-MODIFIED:20170606T161609Z
UID:11694-1519326000-1519333200@www.slorep.org
SUMMARY:The Producers
DESCRIPTION:
URL:https://www.slorep.org/event/the-producers-7/2018-02-22/
LOCATION:San Luis Obispo Repertory Theatre\, 888 Morro St\, San Luis Obispo\, CA\, 93401\, United States
ATTACH;FMTTYPE=image/jpeg:https://www.slorep.org/wp-content/uploads/2017/06/TheProducers-Teaser.jpg
GEO:35.2825108;-120.6629984
X-APPLE-STRUCTURED-LOCATION;VALUE=URI;X-ADDRESS=San Luis Obispo Repertory Theatre 888 Morro St San Luis Obispo CA 93401 United States;X-APPLE-RADIUS=500;X-TITLE=888 Morro St:geo:-120.6629984,35.2825108
END:VEVENT
BEGIN:VEVENT
DTSTART;TZID=America/Los_Angeles:20180221T190000
DTEND;TZID=America/Los_Angeles:20180221T210000
DTSTAMP:20260421T064515
CREATED:20170606T161515Z
LAST-MODIFIED:20170606T161515Z
UID:11690-1519239600-1519246800@www.slorep.org
SUMMARY:The Producers
DESCRIPTION:
URL:https://www.slorep.org/event/the-producers-6/2018-02-21/
LOCATION:San Luis Obispo Repertory Theatre\, 888 Morro St\, San Luis Obispo\, CA\, 93401\, United States
ATTACH;FMTTYPE=image/jpeg:https://www.slorep.org/wp-content/uploads/2017/06/TheProducers-Teaser.jpg
GEO:35.2825108;-120.6629984
X-APPLE-STRUCTURED-LOCATION;VALUE=URI;X-ADDRESS=San Luis Obispo Repertory Theatre 888 Morro St San Luis Obispo CA 93401 United States;X-APPLE-RADIUS=500;X-TITLE=888 Morro St:geo:-120.6629984,35.2825108
END:VEVENT
BEGIN:VEVENT
DTSTART;TZID=America/Los_Angeles:20180218T140000
DTEND;TZID=America/Los_Angeles:20180218T160000
DTSTAMP:20260421T064515
CREATED:20170606T161314Z
LAST-MODIFIED:20170606T161314Z
UID:11681-1518962400-1518969600@www.slorep.org
SUMMARY:The Producers
DESCRIPTION:
URL:https://www.slorep.org/event/the-producers-4/2018-02-18/
LOCATION:San Luis Obispo Repertory Theatre\, 888 Morro St\, San Luis Obispo\, CA\, 93401\, United States
ATTACH;FMTTYPE=image/jpeg:https://www.slorep.org/wp-content/uploads/2017/06/TheProducers-Teaser.jpg
GEO:35.2825108;-120.6629984
X-APPLE-STRUCTURED-LOCATION;VALUE=URI;X-ADDRESS=San Luis Obispo Repertory Theatre 888 Morro St San Luis Obispo CA 93401 United States;X-APPLE-RADIUS=500;X-TITLE=888 Morro St:geo:-120.6629984,35.2825108
END:VEVENT
BEGIN:VEVENT
DTSTART;TZID=America/Los_Angeles:20180217T190000
DTEND;TZID=America/Los_Angeles:20180217T210000
DTSTAMP:20260421T064515
CREATED:20170606T161216Z
LAST-MODIFIED:20170606T161216Z
UID:11676-1518894000-1518901200@www.slorep.org
SUMMARY:The Producers
DESCRIPTION:
URL:https://www.slorep.org/event/the-producers-3/2018-02-17/
LOCATION:San Luis Obispo Repertory Theatre\, 888 Morro St\, San Luis Obispo\, CA\, 93401\, United States
ATTACH;FMTTYPE=image/jpeg:https://www.slorep.org/wp-content/uploads/2017/06/TheProducers-Teaser.jpg
GEO:35.2825108;-120.6629984
X-APPLE-STRUCTURED-LOCATION;VALUE=URI;X-ADDRESS=San Luis Obispo Repertory Theatre 888 Morro St San Luis Obispo CA 93401 United States;X-APPLE-RADIUS=500;X-TITLE=888 Morro St:geo:-120.6629984,35.2825108
END:VEVENT
BEGIN:VEVENT
DTSTART;TZID=America/Los_Angeles:20180217T140000
DTEND;TZID=America/Los_Angeles:20180217T160000
DTSTAMP:20260421T064515
CREATED:20170606T161126Z
LAST-MODIFIED:20170606T161126Z
UID:11670-1518876000-1518883200@www.slorep.org
SUMMARY:The Producers
DESCRIPTION:
URL:https://www.slorep.org/event/the-producers-2/2018-02-17/
LOCATION:San Luis Obispo Repertory Theatre\, 888 Morro St\, San Luis Obispo\, CA\, 93401\, United States
ATTACH;FMTTYPE=image/jpeg:https://www.slorep.org/wp-content/uploads/2017/06/TheProducers-Teaser.jpg
GEO:35.2825108;-120.6629984
X-APPLE-STRUCTURED-LOCATION;VALUE=URI;X-ADDRESS=San Luis Obispo Repertory Theatre 888 Morro St San Luis Obispo CA 93401 United States;X-APPLE-RADIUS=500;X-TITLE=888 Morro St:geo:-120.6629984,35.2825108
END:VEVENT
BEGIN:VEVENT
DTSTART;TZID=America/Los_Angeles:20180216T190000
DTEND;TZID=America/Los_Angeles:20180216T210000
DTSTAMP:20260421T064515
CREATED:20170606T160945Z
LAST-MODIFIED:20170606T161013Z
UID:11663-1518807600-1518814800@www.slorep.org
SUMMARY:The Producers
DESCRIPTION:
URL:https://www.slorep.org/event/the-producers/2018-02-16/
LOCATION:San Luis Obispo Repertory Theatre\, 888 Morro St\, San Luis Obispo\, CA\, 93401\, United States
ATTACH;FMTTYPE=image/jpeg:https://www.slorep.org/wp-content/uploads/2017/06/TheProducers-Teaser.jpg
GEO:35.2825108;-120.6629984
X-APPLE-STRUCTURED-LOCATION;VALUE=URI;X-ADDRESS=San Luis Obispo Repertory Theatre 888 Morro St San Luis Obispo CA 93401 United States;X-APPLE-RADIUS=500;X-TITLE=888 Morro St:geo:-120.6629984,35.2825108
END:VEVENT
BEGIN:VEVENT
DTSTART;TZID=America/Los_Angeles:20180203T140000
DTEND;TZID=America/Los_Angeles:20180203T160000
DTSTAMP:20260421T064515
CREATED:20170606T174736Z
LAST-MODIFIED:20170606T174736Z
UID:11742-1517666400-1517673600@www.slorep.org
SUMMARY:New Jerusalem
DESCRIPTION:
URL:https://www.slorep.org/event/new-jerusalem-2/
LOCATION:San Luis Obispo Repertory Theatre\, 888 Morro St\, San Luis Obispo\, CA\, 93401\, United States
ATTACH;FMTTYPE=image/jpeg:https://www.slorep.org/wp-content/uploads/2017/06/Ubu-Teaser.jpg
GEO:35.2825108;-120.6629984
X-APPLE-STRUCTURED-LOCATION;VALUE=URI;X-ADDRESS=San Luis Obispo Repertory Theatre 888 Morro St San Luis Obispo CA 93401 United States;X-APPLE-RADIUS=500;X-TITLE=888 Morro St:geo:-120.6629984,35.2825108
END:VEVENT
BEGIN:VEVENT
DTSTART;TZID=America/Los_Angeles:20180202T190000
DTEND;TZID=America/Los_Angeles:20180202T210000
DTSTAMP:20260421T064515
CREATED:20170606T174652Z
LAST-MODIFIED:20170606T174652Z
UID:11739-1517598000-1517605200@www.slorep.org
SUMMARY:New Jerusalem
DESCRIPTION:
URL:https://www.slorep.org/event/new-jerusalem/2018-02-02/
LOCATION:San Luis Obispo Repertory Theatre\, 888 Morro St\, San Luis Obispo\, CA\, 93401\, United States
ATTACH;FMTTYPE=image/jpeg:https://www.slorep.org/wp-content/uploads/2017/06/Ubu-Teaser.jpg
GEO:35.2825108;-120.6629984
X-APPLE-STRUCTURED-LOCATION;VALUE=URI;X-ADDRESS=San Luis Obispo Repertory Theatre 888 Morro St San Luis Obispo CA 93401 United States;X-APPLE-RADIUS=500;X-TITLE=888 Morro St:geo:-120.6629984,35.2825108
END:VEVENT
BEGIN:VEVENT
DTSTART;TZID=America/Los_Angeles:20180118T190000
DTEND;TZID=America/Los_Angeles:20180118T210000
DTSTAMP:20260421T064515
CREATED:20170606T160809Z
LAST-MODIFIED:20170606T160809Z
UID:11660-1516302000-1516309200@www.slorep.org
SUMMARY:A Little Princess
DESCRIPTION:
URL:https://www.slorep.org/event/a-little-princess-5/2018-01-18/
LOCATION:San Luis Obispo Repertory Theatre\, 888 Morro St\, San Luis Obispo\, CA\, 93401\, United States
ATTACH;FMTTYPE=image/jpeg:https://www.slorep.org/wp-content/uploads/2017/06/ALittlePrincess-Teaser.jpg
GEO:35.2825108;-120.6629984
X-APPLE-STRUCTURED-LOCATION;VALUE=URI;X-ADDRESS=San Luis Obispo Repertory Theatre 888 Morro St San Luis Obispo CA 93401 United States;X-APPLE-RADIUS=500;X-TITLE=888 Morro St:geo:-120.6629984,35.2825108
END:VEVENT
BEGIN:VEVENT
DTSTART;TZID=America/Los_Angeles:20180114T140000
DTEND;TZID=America/Los_Angeles:20180114T160000
DTSTAMP:20260421T064515
CREATED:20170606T160720Z
LAST-MODIFIED:20170606T160720Z
UID:11656-1515938400-1515945600@www.slorep.org
SUMMARY:A Little Princess
DESCRIPTION:
URL:https://www.slorep.org/event/a-little-princess-4/2018-01-14/
LOCATION:San Luis Obispo Repertory Theatre\, 888 Morro St\, San Luis Obispo\, CA\, 93401\, United States
ATTACH;FMTTYPE=image/jpeg:https://www.slorep.org/wp-content/uploads/2017/06/ALittlePrincess-Teaser.jpg
GEO:35.2825108;-120.6629984
X-APPLE-STRUCTURED-LOCATION;VALUE=URI;X-ADDRESS=San Luis Obispo Repertory Theatre 888 Morro St San Luis Obispo CA 93401 United States;X-APPLE-RADIUS=500;X-TITLE=888 Morro St:geo:-120.6629984,35.2825108
END:VEVENT
BEGIN:VEVENT
DTSTART;TZID=America/Los_Angeles:20180113T190000
DTEND;TZID=America/Los_Angeles:20180113T210000
DTSTAMP:20260421T064515
CREATED:20170606T160626Z
LAST-MODIFIED:20170606T160626Z
UID:11652-1515870000-1515877200@www.slorep.org
SUMMARY:A Little Princess
DESCRIPTION:
URL:https://www.slorep.org/event/a-little-princess-3/2018-01-13/
LOCATION:San Luis Obispo Repertory Theatre\, 888 Morro St\, San Luis Obispo\, CA\, 93401\, United States
ATTACH;FMTTYPE=image/jpeg:https://www.slorep.org/wp-content/uploads/2017/06/ALittlePrincess-Teaser.jpg
GEO:35.2825108;-120.6629984
X-APPLE-STRUCTURED-LOCATION;VALUE=URI;X-ADDRESS=San Luis Obispo Repertory Theatre 888 Morro St San Luis Obispo CA 93401 United States;X-APPLE-RADIUS=500;X-TITLE=888 Morro St:geo:-120.6629984,35.2825108
END:VEVENT
BEGIN:VEVENT
DTSTART;TZID=America/Los_Angeles:20180113T140000
DTEND;TZID=America/Los_Angeles:20180113T160000
DTSTAMP:20260421T064515
CREATED:20170606T160533Z
LAST-MODIFIED:20170606T160533Z
UID:11648-1515852000-1515859200@www.slorep.org
SUMMARY:A Little Princess
DESCRIPTION:
URL:https://www.slorep.org/event/a-little-princess-2/2018-01-13/
LOCATION:San Luis Obispo Repertory Theatre\, 888 Morro St\, San Luis Obispo\, CA\, 93401\, United States
ATTACH;FMTTYPE=image/jpeg:https://www.slorep.org/wp-content/uploads/2017/06/ALittlePrincess-Teaser.jpg
GEO:35.2825108;-120.6629984
X-APPLE-STRUCTURED-LOCATION;VALUE=URI;X-ADDRESS=San Luis Obispo Repertory Theatre 888 Morro St San Luis Obispo CA 93401 United States;X-APPLE-RADIUS=500;X-TITLE=888 Morro St:geo:-120.6629984,35.2825108
END:VEVENT
BEGIN:VEVENT
DTSTART;TZID=America/Los_Angeles:20180112T190000
DTEND;TZID=America/Los_Angeles:20180112T210000
DTSTAMP:20260421T064515
CREATED:20170606T160421Z
LAST-MODIFIED:20170606T160421Z
UID:11643-1515783600-1515790800@www.slorep.org
SUMMARY:A Little Princess
DESCRIPTION:
URL:https://www.slorep.org/event/a-little-princess/2018-01-12/
LOCATION:San Luis Obispo Repertory Theatre\, 888 Morro St\, San Luis Obispo\, CA\, 93401\, United States
ATTACH;FMTTYPE=image/jpeg:https://www.slorep.org/wp-content/uploads/2017/06/ALittlePrincess-Teaser.jpg
GEO:35.2825108;-120.6629984
X-APPLE-STRUCTURED-LOCATION;VALUE=URI;X-ADDRESS=San Luis Obispo Repertory Theatre 888 Morro St San Luis Obispo CA 93401 United States;X-APPLE-RADIUS=500;X-TITLE=888 Morro St:geo:-120.6629984,35.2825108
END:VEVENT
BEGIN:VEVENT
DTSTART;TZID=America/Los_Angeles:20171224T080000
DTEND;TZID=America/Los_Angeles:20171224T230000
DTSTAMP:20260421T064515
CREATED:20171121T230242Z
LAST-MODIFIED:20171121T230255Z
UID:12490-1514102400-1514156400@www.slorep.org
SUMMARY:Closed for the Holidays
DESCRIPTION:
URL:https://www.slorep.org/event/theatre-closed-for-the-holidays/2017-12-24/
END:VEVENT
BEGIN:VEVENT
DTSTART;TZID=America/Los_Angeles:20171208T190000
DTEND;TZID=America/Los_Angeles:20171208T210000
DTSTAMP:20260421T064515
CREATED:20170606T013815Z
LAST-MODIFIED:20171212T192825Z
UID:11632-1512759600-1512766800@www.slorep.org
SUMMARY:A Christmas Story 2017
DESCRIPTION:
URL:https://www.slorep.org/event/a-christmas-story-2017-7/2017-12-08/
LOCATION:San Luis Obispo Repertory Theatre\, 888 Morro St\, San Luis Obispo\, CA\, 93401\, United States
ATTACH;FMTTYPE=image/jpeg:https://www.slorep.org/wp-content/uploads/2017/06/AChristmasStory-Teaser.jpg
GEO:35.2825108;-120.6629984
X-APPLE-STRUCTURED-LOCATION;VALUE=URI;X-ADDRESS=San Luis Obispo Repertory Theatre 888 Morro St San Luis Obispo CA 93401 United States;X-APPLE-RADIUS=500;X-TITLE=888 Morro St:geo:-120.6629984,35.2825108
END:VEVENT
BEGIN:VEVENT
DTSTART;TZID=America/Los_Angeles:20171207T190000
DTEND;TZID=America/Los_Angeles:20171207T210000
DTSTAMP:20260421T064515
CREATED:20170606T013718Z
LAST-MODIFIED:20171212T192723Z
UID:11628-1512673200-1512680400@www.slorep.org
SUMMARY:A Christmas Story 2017
DESCRIPTION:
URL:https://www.slorep.org/event/a-christmas-story-2017-6/2017-12-07/
LOCATION:San Luis Obispo Repertory Theatre\, 888 Morro St\, San Luis Obispo\, CA\, 93401\, United States
ATTACH;FMTTYPE=image/jpeg:https://www.slorep.org/wp-content/uploads/2017/06/AChristmasStory-Teaser.jpg
GEO:35.2825108;-120.6629984
X-APPLE-STRUCTURED-LOCATION;VALUE=URI;X-ADDRESS=San Luis Obispo Repertory Theatre 888 Morro St San Luis Obispo CA 93401 United States;X-APPLE-RADIUS=500;X-TITLE=888 Morro St:geo:-120.6629984,35.2825108
END:VEVENT
END:VCALENDAR