BEGIN:VCALENDAR
VERSION:2.0
PRODID:-//San Luis Obispo Repertory Theatre - ECPv6.15.20//NONSGML v1.0//EN
CALSCALE:GREGORIAN
METHOD:PUBLISH
X-ORIGINAL-URL:https://www.slorep.org
X-WR-CALDESC:Events for San Luis Obispo Repertory Theatre
REFRESH-INTERVAL;VALUE=DURATION:PT1H
X-Robots-Tag:noindex
X-PUBLISHED-TTL:PT1H
BEGIN:VTIMEZONE
TZID:America/Los_Angeles
BEGIN:DAYLIGHT
TZOFFSETFROM:-0800
TZOFFSETTO:-0700
TZNAME:PDT
DTSTART:20230312T100000
END:DAYLIGHT
BEGIN:STANDARD
TZOFFSETFROM:-0700
TZOFFSETTO:-0800
TZNAME:PST
DTSTART:20231105T090000
END:STANDARD
BEGIN:DAYLIGHT
TZOFFSETFROM:-0800
TZOFFSETTO:-0700
TZNAME:PDT
DTSTART:20240310T100000
END:DAYLIGHT
BEGIN:STANDARD
TZOFFSETFROM:-0700
TZOFFSETTO:-0800
TZNAME:PST
DTSTART:20241103T090000
END:STANDARD
BEGIN:DAYLIGHT
TZOFFSETFROM:-0800
TZOFFSETTO:-0700
TZNAME:PDT
DTSTART:20250309T100000
END:DAYLIGHT
BEGIN:STANDARD
TZOFFSETFROM:-0700
TZOFFSETTO:-0800
TZNAME:PST
DTSTART:20251102T090000
END:STANDARD
END:VTIMEZONE
BEGIN:VEVENT
DTSTART;TZID=America/Los_Angeles:20241101T190000
DTEND;TZID=America/Los_Angeles:20241101T210000
DTSTAMP:20260421T051401
CREATED:20240618T210402Z
LAST-MODIFIED:20240618T210402Z
UID:27854-1730487600-1730494800@www.slorep.org
SUMMARY:Staged Reading: Molly Sweeney
DESCRIPTION:
URL:https://www.slorep.org/event/staged-reading-molly-sweeney/2024-11-01/
LOCATION:San Luis Obispo Repertory Theatre\, 888 Morro St\, San Luis Obispo\, CA\, 93401\, United States
ATTACH;FMTTYPE=image/jpeg:https://www.slorep.org/wp-content/uploads/2024/06/mollysweeneysteaser.jpg
GEO:35.2825108;-120.6629984
X-APPLE-STRUCTURED-LOCATION;VALUE=URI;X-ADDRESS=San Luis Obispo Repertory Theatre 888 Morro St San Luis Obispo CA 93401 United States;X-APPLE-RADIUS=500;X-TITLE=888 Morro St:geo:-120.6629984,35.2825108
END:VEVENT
BEGIN:VEVENT
DTSTART;TZID=America/Los_Angeles:20241102T140000
DTEND;TZID=America/Los_Angeles:20241102T160000
DTSTAMP:20260421T051401
CREATED:20240618T210402Z
LAST-MODIFIED:20240618T210402Z
UID:27855-1730556000-1730563200@www.slorep.org
SUMMARY:Staged Reading: Molly Sweeney
DESCRIPTION:
URL:https://www.slorep.org/event/staged-reading-molly-sweeney/2024-11-02/
LOCATION:San Luis Obispo Repertory Theatre\, 888 Morro St\, San Luis Obispo\, CA\, 93401\, United States
ATTACH;FMTTYPE=image/jpeg:https://www.slorep.org/wp-content/uploads/2024/06/mollysweeneysteaser.jpg
GEO:35.2825108;-120.6629984
X-APPLE-STRUCTURED-LOCATION;VALUE=URI;X-ADDRESS=San Luis Obispo Repertory Theatre 888 Morro St San Luis Obispo CA 93401 United States;X-APPLE-RADIUS=500;X-TITLE=888 Morro St:geo:-120.6629984,35.2825108
END:VEVENT
BEGIN:VEVENT
DTSTART;TZID=America/Los_Angeles:20241102T190000
DTEND;TZID=America/Los_Angeles:20241102T210000
DTSTAMP:20260421T051401
CREATED:20240618T210402Z
LAST-MODIFIED:20240618T210402Z
UID:27856-1730574000-1730581200@www.slorep.org
SUMMARY:Staged Reading: Molly Sweeney
DESCRIPTION:
URL:https://www.slorep.org/event/staged-reading-molly-sweeney/2024-11-02/2/
LOCATION:San Luis Obispo Repertory Theatre\, 888 Morro St\, San Luis Obispo\, CA\, 93401\, United States
ATTACH;FMTTYPE=image/jpeg:https://www.slorep.org/wp-content/uploads/2024/06/mollysweeneysteaser.jpg
GEO:35.2825108;-120.6629984
X-APPLE-STRUCTURED-LOCATION;VALUE=URI;X-ADDRESS=San Luis Obispo Repertory Theatre 888 Morro St San Luis Obispo CA 93401 United States;X-APPLE-RADIUS=500;X-TITLE=888 Morro St:geo:-120.6629984,35.2825108
END:VEVENT
BEGIN:VEVENT
DTSTART;TZID=America/Los_Angeles:20241130T190000
DTEND;TZID=America/Los_Angeles:20241130T210000
DTSTAMP:20260421T051401
CREATED:20240613T033434Z
LAST-MODIFIED:20240613T033534Z
UID:27734-1732993200-1733000400@www.slorep.org
SUMMARY:A Christmas Story
DESCRIPTION:
URL:https://www.slorep.org/event/a-christmas-story-17/2024-11-30/
LOCATION:San Luis Obispo Repertory Theatre\, 888 Morro St\, San Luis Obispo\, CA\, 93401\, United States
ATTACH;FMTTYPE=image/jpeg:https://www.slorep.org/wp-content/uploads/2024/06/AChristmasStory-624x416-SLORep.jpg
GEO:35.2825108;-120.6629984
X-APPLE-STRUCTURED-LOCATION;VALUE=URI;X-ADDRESS=San Luis Obispo Repertory Theatre 888 Morro St San Luis Obispo CA 93401 United States;X-APPLE-RADIUS=500;X-TITLE=888 Morro St:geo:-120.6629984,35.2825108
END:VEVENT
END:VCALENDAR